BEGIN:VCALENDAR
VERSION:2.0
PRODID:-//ChamberMaster//Event Calendar 2.0//EN
METHOD:PUBLISH
X-PUBLISHED-TTL:P3D
REFRESH-INTERVAL:P3D
CALSCALE:GREGORIAN
BEGIN:VEVENT
DTSTART:20230716T230000Z
DTEND:20230721T013000Z
X-MICROSOFT-CDO-ALLDAYEVENT:FALSE
SUMMARY:West Center Baptist - Vacation Bible School
DESCRIPTION:July 16-20\n\nWith "Twists &Turns\," kids will play their way through VBS while learning that Jesus guides them through the ups\, downs\, and zigzags of lives. Most important\, kids will encounter the Gospel and learn that sin's message of "game over" is overcome through Jesus' life\, death\, and resurrection. The biblical lessons in "Twists & Turns" flow from the motto "Following Jesus changes the game" and the theme verse\, Psalm 25:4: "Make your ways known to me\, LORD \; teach me your paths"
X-ALT-DESC;FMTTYPE=text/html:<p>July 16-20<br />\nWith &quot\;Twists &amp\;Turns\,&quot\; kids will play their way through VBS while learning that Jesus guides them through the ups\, downs\, and zigzags of lives. Most important\, kids will encounter&nbsp\;the Gospel and learn that sin&#39\;s message of &quot\;game over&quot\; is overcome through Jesus&#39\; life\, death\, and resurrection. The biblical lessons in &quot\;Twists &amp\; Turns&quot\; flow from the motto &quot\;Following Jesus changes the game&quot\; and the theme verse\, Psalm 25:4: &quot\;Make your ways known to me\, LORD \; teach me your paths&quot\;&nbsp\;</p>\n
LOCATION:West Baptist Church
UID:e.1979.6706
SEQUENCE:3
DTSTAMP:20260421T175713Z
URL:https://business.chamberofmadisonsd.com/events/details/west-center-baptist-vacation-bible-school-6706
END:VEVENT

END:VCALENDAR
