BEGIN:VCALENDAR
VERSION:2.0
PRODID:-//ChamberMaster//Event Calendar 2.0//EN
METHOD:PUBLISH
X-PUBLISHED-TTL:P3D
REFRESH-INTERVAL:P3D
CALSCALE:GREGORIAN
BEGIN:VEVENT
DTSTART:20231004T010000Z
DTEND:20231004T040000Z
X-MICROSOFT-CDO-ALLDAYEVENT:FALSE
SUMMARY:Taco Tussle
DESCRIPTION:Taco Tussle is the equivalent to the Burger Battle in full taco form. Enjoy tacos from participating businesses and choose your favorite to be the winner of the Taco Tussle.  \n\nA list of participating businesses and their corresponding taco entries will be released once compiled.
X-ALT-DESC;FMTTYPE=text/html:<p>Taco Tussle is the equivalent to the Burger Battle in full taco form. Enjoy tacos from participating businesses and choose your favorite to be the winner of the Taco Tussle.&nbsp\;&nbsp\;</p>\n\n<p>A list of participating&nbsp\;businesses and their corresponding taco entries&nbsp\;will be released once compiled.</p>\n
LOCATION:Madison\, SD
UID:e.1979.6987
SEQUENCE:3
DTSTAMP:20260421T115013Z
URL:https://business.chamberofmadisonsd.com/events/details/taco-tussle-6987
END:VEVENT

END:VCALENDAR
