BEGIN:VCALENDAR
VERSION:2.0
PRODID:-//ChamberMaster//Event Calendar 2.0//EN
METHOD:PUBLISH
X-PUBLISHED-TTL:P3D
REFRESH-INTERVAL:P3D
CALSCALE:GREGORIAN
BEGIN:VEVENT
DTSTART:20230930T150000Z
DTEND:20230930T190000Z
X-MICROSOFT-CDO-ALLDAYEVENT:FALSE
SUMMARY:ReStore Donation Drop Off
DESCRIPTION:The Brookings Habitat for Humanity Restore truck will be coming to Madison to accept any donations. \n\n	The first 10 donations will get a 50% off coupon (some exclusions apply)
X-ALT-DESC;FMTTYPE=text/html:The Brookings Habitat for Humanity Restore truck will be coming to Madison to accept any donations.&nbsp\;\n<ul>\n	<li>The first 10 donations will get a 50% off coupon (some exclusions apply)</li>\n</ul>\n
LOCATION:United Methodist Church Parking Lot on Saturday September 30th. 304 N Egan Ave N\, Madison\, SD 57042
UID:e.1979.7012
SEQUENCE:3
DTSTAMP:20260421T131738Z
URL:https://business.chamberofmadisonsd.com/events/details/restore-donation-drop-off-7012
END:VEVENT

END:VCALENDAR
