BEGIN:VCALENDAR
VERSION:2.0
PRODID:-//ChamberMaster//Event Calendar 2.0//EN
METHOD:PUBLISH
X-PUBLISHED-TTL:P3D
REFRESH-INTERVAL:P3D
CALSCALE:GREGORIAN
BEGIN:VEVENT
DTSTART;VALUE=DATE:20230914
DTEND;VALUE=DATE:20230915
TRANSP:TRANSPARENT
X-MICROSOFT-CDO-ALLDAYEVENT:TRUE
SUMMARY:MCSD Golf: Boys Varsity Dual
DESCRIPTION:vs. Sioux Valley
X-ALT-DESC;FMTTYPE=text/html:<span style="color: rgb(0\, 0\, 0)\; font-family: &quot\;Open Sans&quot\;\, Arial\, sans-serif\; font-size: 12px\;">vs. Sioux Valley</span>
LOCATION:Madison Country Club
UID:e.1979.6740
SEQUENCE:3
DTSTAMP:20260421T132114Z
URL:https://business.chamberofmadisonsd.com/events/details/mcsd-golf-boys-varsity-dual-09-14-2023-6740
END:VEVENT

END:VCALENDAR
