BEGIN:VCALENDAR
VERSION:2.0
PRODID:-//ChamberMaster//Event Calendar 2.0//EN
METHOD:PUBLISH
X-PUBLISHED-TTL:P3D
REFRESH-INTERVAL:P3D
CALSCALE:GREGORIAN
BEGIN:VEVENT
DTSTART;VALUE=DATE:20230807
DTEND;VALUE=DATE:20230809
TRANSP:TRANSPARENT
X-MICROSOFT-CDO-ALLDAYEVENT:TRUE
SUMMARY:Madison Regional Health Blood Drive
DESCRIPTION:Donors must be at least 16 years old\, weigh 110lbs or more anbd be in good general health. If you are exhibiting symptoms related to COVID-19\, a cold or the flu\, you will be asked not to donate. To schedule your appointment log onto www.cbblifeblodd.org\, click on "events" August 7 & 8 and Madison Regional Health or call 605-331-3222
X-ALT-DESC;FMTTYPE=text/html:Donors must be at least 16 years old\, weigh 110lbs or more anbd be in good general health. If you are exhibiting symptoms related to COVID-19\, a cold or the flu\, you will be asked not to donate. To schedule your appointment log onto www.cbblifeblodd.org\, click on &quot\;events&quot\; August 7 &amp\; 8 and Madison Regional Health or call 605-331-3222
LOCATION:Madison Regional Health
UID:e.1979.6886
SEQUENCE:3
DTSTAMP:20260421T150836Z
URL:https://business.chamberofmadisonsd.com/events/details/madison-regional-health-blood-drive-6886
END:VEVENT

END:VCALENDAR
