BEGIN:VCALENDAR
VERSION:2.0
PRODID:-//ChamberMaster//Event Calendar 2.0//EN
METHOD:PUBLISH
X-PUBLISHED-TTL:P3D
REFRESH-INTERVAL:P3D
CALSCALE:GREGORIAN
BEGIN:VEVENT
DTSTART;VALUE=DATE:20230918
DTEND;VALUE=DATE:20230919
TRANSP:TRANSPARENT
X-MICROSOFT-CDO-ALLDAYEVENT:TRUE
SUMMARY:Madison High School Homecoming Coronation
DESCRIPTION:
X-ALT-DESC;FMTTYPE=text/html:
LOCATION:Dakota Prairie Playhouse 1205 Washington Ave. North Madison\, SD 57042
UID:e.1979.6742
SEQUENCE:3
DTSTAMP:20260423T001533Z
URL:https://business.chamberofmadisonsd.com/events/details/madison-high-school-homecoming-coronation-6742
END:VEVENT

END:VCALENDAR
