BEGIN:VCALENDAR
VERSION:2.0
PRODID:-//ChamberMaster//Event Calendar 2.0//EN
METHOD:PUBLISH
X-PUBLISHED-TTL:P3D
REFRESH-INTERVAL:P3D
CALSCALE:GREGORIAN
BEGIN:VEVENT
DTSTART;VALUE=DATE:20231017
DTEND;VALUE=DATE:20231018
TRANSP:TRANSPARENT
X-MICROSOFT-CDO-ALLDAYEVENT:TRUE
SUMMARY:KIWANIS Community Pancake Day
DESCRIPTION:Carry outs available. Proceeds go to community projects.
X-ALT-DESC;FMTTYPE=text/html:Carry outs available. Proceeds go to community projects.&nbsp\;
LOCATION:Madison Downtown City Armory
UID:e.1979.6953
SEQUENCE:3
DTSTAMP:20260421T115115Z
URL:https://business.chamberofmadisonsd.com/events/details/kiwanis-community-pancake-day-6953
END:VEVENT

END:VCALENDAR
