BEGIN:VCALENDAR
VERSION:2.0
PRODID:-//ChamberMaster//Event Calendar 2.0//EN
METHOD:PUBLISH
X-PUBLISHED-TTL:P3D
REFRESH-INTERVAL:P3D
CALSCALE:GREGORIAN
BEGIN:VEVENT
DTSTART:20240709T210000Z
DTEND:20240709T230000Z
X-MICROSOFT-CDO-ALLDAYEVENT:FALSE
SUMMARY:First Bank & Trust SportsPLEX Open House
DESCRIPTION:You're invited to help us celebrate the opening of First Bank & Trust SportsPLEX.\n\nOpen House - 4:00 PM - 6:00 PM\n\nRibbon Cutting - 4:30 PM
X-ALT-DESC;FMTTYPE=text/html:<p>You&#39\;re invited to help us celebrate the opening of First Bank &amp\; Trust SportsPLEX.</p>\n\n<p>Open House - 4:00 PM - 6:00 PM<br />\nRibbon Cutting - 4:30 PM&nbsp\;<br />\n&nbsp\;</p>\n
LOCATION:535 NE 3rd Street Madison\, SD
UID:e.1979.8764
SEQUENCE:3
DTSTAMP:20260420T084708Z
URL:https://business.chamberofmadisonsd.com/events/details/first-bank-trust-sportsplex-open-house-8764
END:VEVENT

END:VCALENDAR
