BEGIN:VCALENDAR
VERSION:2.0
PRODID:-//ChamberMaster//Event Calendar 2.0//EN
METHOD:PUBLISH
X-PUBLISHED-TTL:P3D
REFRESH-INTERVAL:P3D
CALSCALE:GREGORIAN
BEGIN:VEVENT
DTSTART:20230901T203000Z
DTEND:20230901T223000Z
X-MICROSOFT-CDO-ALLDAYEVENT:FALSE
SUMMARY:Eugene Vidal Aviation Exhibit
DESCRIPTION:Fun for all ages! Enjoy museum exhibits- especially the grand opening of our Eugene Vidal aviation exhibit! We'll also have refreshments\, cookie decorating\, and a photo booth. Kids can decorate a wood airplane to take home\, make a phonetic alphabet bracelet\, and more. Sponsored by: Riggin Flight Service
X-ALT-DESC;FMTTYPE=text/html:Fun for all ages! Enjoy museum exhibits- especially the grand opening of our Eugene Vidal aviation exhibit! We&rsquo\;ll also have refreshments\, cookie decorating\, and a photo booth. Kids can decorate a wood airplane to take home\, make a phonetic alphabet bracelet\, and more. Sponsored by: Riggin Flight Service
LOCATION:Lake County Museum
UID:e.1979.6922
SEQUENCE:3
DTSTAMP:20260421T131816Z
URL:https://business.chamberofmadisonsd.com/events/details/eugene-vidal-aviation-exhibit-6922
END:VEVENT

END:VCALENDAR
