BEGIN:VCALENDAR
VERSION:2.0
PRODID:-//ChamberMaster//Event Calendar 2.0//EN
METHOD:PUBLISH
X-PUBLISHED-TTL:P3D
REFRESH-INTERVAL:P3D
CALSCALE:GREGORIAN
BEGIN:VEVENT
DTSTART:20260428T223000Z
DTEND:20260428T233000Z
X-MICROSOFT-CDO-ALLDAYEVENT:FALSE
SUMMARY:City Circle - Infrastructure Updates
DESCRIPTION:Stop by and visit with commissioners Jerae Wire and Daniel Buresh\, Mayor Roy Lindsey\, City Administrator Jameson Berreth\, Engineering Director Ryan Hegg\, and Utilities Director Mike Plooster as they share infrastructure updates and discuss current projects across the community.\n\nHave questions about other topics happening in the community? This is your chance to ask. Residents are encouraged to bring questions\, share perspectives\, and be a part of the discussion.
X-ALT-DESC;FMTTYPE=text/html:<p><span style="font-size:14px\;"><span style="font-family:arial\;">Stop by and visit with <span style="color: rgb(10\, 10\, 10)\;">commissioners&nbsp\;</span>Jerae Wire and Daniel Buresh\, Mayor Roy Lindsey\, City Administrator Jameson Berreth\, Engineering Director Ryan Hegg\, and Utilities Director Mike Plooster as they share infrastructure updates and discuss current projects across the community.</span></span></p>\n\n<p><span style="font-size:14px\;"><span style="font-family:arial\;">Have questions about other topics happening in the community? This is your chance to ask. Residents are encouraged to bring questions\, share perspectives\, and be a part of the discussion.&nbsp\;</span></span></p>\n
LOCATION:Madison Community Center
UID:e.1979.9545
SEQUENCE:3
DTSTAMP:20260423T194917Z
URL:https://business.chamberofmadisonsd.com/events/details/city-circle-infrastructure-updates-9545
END:VEVENT

END:VCALENDAR
