BEGIN:VCALENDAR
VERSION:2.0
PRODID:-//ChamberMaster//Event Calendar 2.0//EN
METHOD:PUBLISH
X-PUBLISHED-TTL:P3D
REFRESH-INTERVAL:P3D
CALSCALE:GREGORIAN
BEGIN:VEVENT
DTSTART:20260425T150000Z
DTEND:20260425T170000Z
X-MICROSOFT-CDO-ALLDAYEVENT:FALSE
SUMMARY:Chess Tournament
DESCRIPTION:Come together for a fun\, fast-paced tournament where players can enjoy friendly competition. A great chance to connect\, challenge yourself\, and have a good time! \n\n\n\nVolunteer Lead: Dr. Domingo Rocha\n\n\n\nTournament Details\n\n\n	4 rounds \n	10 minute time control with 2 sec delay\n	Swiss system\, non rated\n	U14 and adult categories \n\nHave questions or ready to sign up? \n\nCall: 605-256-7525\n\nEmail: madisonpubliclibrary@gmail.com
X-ALT-DESC;FMTTYPE=text/html:<p>Come together for a fun\, fast-paced tournament where players can enjoy friendly competition. A great chance to connect\, challenge yourself\, and have a good time!&nbsp\;<br />\n<br />\nVolunteer Lead: Dr. Domingo Rocha<br />\n<br />\n<u>Tournament Details</u></p>\n\n<ul>\n	<li>4 rounds&nbsp\;</li>\n	<li>10 minute time control with 2 sec delay</li>\n	<li>Swiss system\, non rated</li>\n	<li>U14 and adult categories&nbsp\;</li>\n</ul>\nHave questions or ready to sign up?&nbsp\;<br />\nCall: 605-256-7525<br />\nEmail: madisonpubliclibrary@gmail.com
LOCATION:Madison Public Library
UID:e.1979.9547
SEQUENCE:3
DTSTAMP:20260423T193409Z
URL:https://business.chamberofmadisonsd.com/events/details/chess-tournament-9547
END:VEVENT

END:VCALENDAR
