BEGIN:VCALENDAR
VERSION:2.0
PRODID:-//ChamberMaster//Event Calendar 2.0//EN
METHOD:PUBLISH
X-PUBLISHED-TTL:P3D
REFRESH-INTERVAL:P3D
CALSCALE:GREGORIAN
BEGIN:VEVENT
DTSTART:20230919T230000Z
DTEND:20230920T000000Z
X-MICROSOFT-CDO-ALLDAYEVENT:FALSE
SUMMARY:Chess Club
DESCRIPTION:This will be a weekly event! The Madison Public Library is starting a Chess Club. Tuesdays 6pm-7pm starting September 19th. Taught by volunteer Dr. Domingo Rocha who has played chess since he was 6 and speaks Spanish. All attentive ages welcome.
X-ALT-DESC;FMTTYPE=text/html:This will be a weekly event! The Madison Public Library is starting a Chess Club. Tuesdays 6pm-7pm starting September 19th. Taught by volunteer Dr. Domingo Rocha who has played chess since he was 6 and speaks Spanish. All attentive ages welcome.
LOCATION:Madison Public Library 209 E Center St
UID:e.1979.6997
SEQUENCE:3
DTSTAMP:20260421T134418Z
URL:https://business.chamberofmadisonsd.com/events/details/chess-club-6997
END:VEVENT

END:VCALENDAR
