BEGIN:VCALENDAR
VERSION:2.0
PRODID:-//ChamberMaster//Event Calendar 2.0//EN
METHOD:PUBLISH
X-PUBLISHED-TTL:P3D
REFRESH-INTERVAL:P3D
CALSCALE:GREGORIAN
BEGIN:VEVENT
DTSTART:20230710T210000Z
DTEND:20230710T230000Z
X-MICROSOFT-CDO-ALLDAYEVENT:FALSE
SUMMARY:Bee an Investigator
DESCRIPTION:Come to the Madison Public Library Monday July 10th for our Come & Go Event from 4-6 pm. Come BEE an investigator and learn about pollinators! It is going to BEE fun!
X-ALT-DESC;FMTTYPE=text/html:Come to the Madison Public Library Monday July 10th for our Come &amp\; Go Event from 4-6 pm. Come BEE an investigator and learn about pollinators! It is going to BEE fun!
LOCATION:Madison Public Library
UID:e.1979.6860
SEQUENCE:3
DTSTAMP:20260421T175729Z
URL:https://business.chamberofmadisonsd.com/events/details/bee-an-investigator-6860
END:VEVENT

END:VCALENDAR
