BEGIN:VCALENDAR
VERSION:2.0
PRODID:-//ChamberMaster//Event Calendar 2.0//EN
METHOD:PUBLISH
X-PUBLISHED-TTL:P3D
REFRESH-INTERVAL:P3D
CALSCALE:GREGORIAN
BEGIN:VEVENT
DTSTART:20220807T160000Z
DTEND:20220807T210000Z
X-MICROSOFT-CDO-ALLDAYEVENT:FALSE
SUMMARY:28th Annual Madison Car Show
DESCRIPTION:
X-ALT-DESC;FMTTYPE=text/html:
LOCATION:
UID:e.1979.5583
SEQUENCE:3
DTSTAMP:20260420T104913Z
URL:https://business.chamberofmadisonsd.com/events/details/28th-annual-madison-car-show-5583
END:VEVENT

END:VCALENDAR
